Package: spoon Version: 1.2.0 Command: /Library/Frameworks/R.framework/Resources/bin/R CMD check --install=check:spoon.install-out.txt --library=/Library/Frameworks/R.framework/Resources/library --no-vignettes --timings spoon_1.2.0.tar.gz StartedAt: 2025-04-01 09:42:06 -0400 (Tue, 01 Apr 2025) EndedAt: 2025-04-01 09:55:48 -0400 (Tue, 01 Apr 2025) EllapsedTime: 821.3 seconds RetCode: 0 Status: OK CheckDir: spoon.Rcheck Warnings: 0