Package: spoon Version: 1.2.0 Command: /Library/Frameworks/R.framework/Resources/bin/R CMD build --keep-empty-dirs --no-resave-data spoon StartedAt: 2025-03-31 22:19:14 -0400 (Mon, 31 Mar 2025) EndedAt: 2025-03-31 22:22:47 -0400 (Mon, 31 Mar 2025) EllapsedTime: 212.9 seconds RetCode: 0 Status: OK PackageFile: spoon_1.2.0.tar.gz PackageFileSize: 813.7 KiB