Package: splots Version: 1.72.0 Command: /home/biocbuild/R/R/bin/R CMD INSTALL splots StartedAt: 2025-03-31 20:13:34 -0000 (Mon, 31 Mar 2025) EndedAt: 2025-03-31 20:13:59 -0000 (Mon, 31 Mar 2025) EllapsedTime: 25.0 seconds RetCode: 0 Status: OK