Package: splots Version: 1.72.0 Command: /home/biocbuild/R/R/bin/R CMD build --keep-empty-dirs --no-resave-data splots StartedAt: 2025-04-01 02:55:33 -0000 (Tue, 01 Apr 2025) EndedAt: 2025-04-01 02:56:23 -0000 (Tue, 01 Apr 2025) EllapsedTime: 50.0 seconds RetCode: 0 Status: OK PackageFile: splots_1.72.0.tar.gz PackageFileSize: 441.3 KiB