Package: splatter Version: 1.30.0 Command: /home/biocbuild/R/R/bin/R CMD INSTALL splatter StartedAt: 2025-03-31 20:53:53 -0000 (Mon, 31 Mar 2025) EndedAt: 2025-03-31 20:54:30 -0000 (Mon, 31 Mar 2025) EllapsedTime: 36.7 seconds RetCode: 0 Status: OK