Package: splatter Version: 1.30.0 Command: /home/biocbuild/R/R/bin/R CMD build --keep-empty-dirs --no-resave-data splatter StartedAt: 2025-04-01 02:54:40 -0000 (Tue, 01 Apr 2025) EndedAt: 2025-04-01 02:59:09 -0000 (Tue, 01 Apr 2025) EllapsedTime: 269.2 seconds RetCode: 0 Status: OK PackageFile: splatter_1.30.0.tar.gz PackageFileSize: 4.477 MiB