Package: spillR Version: 1.2.0 Command: /Library/Frameworks/R.framework/Resources/bin/R CMD check --install=check:spillR.install-out.txt --library=/Library/Frameworks/R.framework/Resources/library --no-vignettes --timings spillR_1.2.0.tar.gz StartedAt: 2025-04-01 09:38:45 -0400 (Tue, 01 Apr 2025) EndedAt: 2025-04-01 09:52:10 -0400 (Tue, 01 Apr 2025) EllapsedTime: 804.8 seconds RetCode: 0 Status: OK CheckDir: spillR.Rcheck Warnings: 0