Package: spikeLI Version: 2.66.0 Command: /home/biocbuild/R/R/bin/R CMD build --keep-empty-dirs --no-resave-data spikeLI StartedAt: 2025-04-01 02:54:33 -0000 (Tue, 01 Apr 2025) EndedAt: 2025-04-01 02:54:39 -0000 (Tue, 01 Apr 2025) EllapsedTime: 6.0 seconds RetCode: 0 Status: OK PackageFile: spikeLI_2.66.0.tar.gz PackageFileSize: 382.9 KiB