Package: spatzie Version: 1.12.0 Command: /home/biocbuild/R/R/bin/R CMD check --install=check:spatzie.install-out.txt --library=/home/biocbuild/R/R/site-library --no-vignettes --timings spatzie_1.12.0.tar.gz StartedAt: 2025-04-01 10:55:59 -0000 (Tue, 01 Apr 2025) EndedAt: 2025-04-01 11:03:52 -0000 (Tue, 01 Apr 2025) EllapsedTime: 472.6 seconds RetCode: 0 Status: OK CheckDir: spatzie.Rcheck Warnings: 0