Package: spatialSimGP Version: 1.0.0 Command: rm -rf spatialSimGP.buildbin-libdir && mkdir spatialSimGP.buildbin-libdir && /Users/biocbuild/BBS/utils/build-universal.sh spatialSimGP_1.0.0.tar.gz /Library/Frameworks/R.framework/Resources/bin/R spatialSimGP.buildbin-libdir StartedAt: 2025-04-02 16:27:48 -0400 (Wed, 02 Apr 2025) EndedAt: 2025-04-02 16:28:18 -0400 (Wed, 02 Apr 2025) EllapsedTime: 30.3 seconds RetCode: 0 Status: OK PackageFile: spatialSimGP_1.0.0.tgz PackageFileSize: 744.5 KiB