Package: spatialDE Version: 1.12.0 Command: /home/biocbuild/R/R/bin/R CMD INSTALL spatialDE StartedAt: 2025-03-31 20:27:48 -0000 (Mon, 31 Mar 2025) EndedAt: 2025-03-31 20:28:11 -0000 (Mon, 31 Mar 2025) EllapsedTime: 23.6 seconds RetCode: 0 Status: OK