Package: spatialDE Version: 1.12.0 Command: /home/biocbuild/bbs-3.20-bioc/R/bin/R CMD build --keep-empty-dirs --no-resave-data --md5 spatialDE StartedAt: 2025-03-31 19:13:41 -0400 (Mon, 31 Mar 2025) EndedAt: 2025-03-31 19:15:57 -0400 (Mon, 31 Mar 2025) EllapsedTime: 136.1 seconds RetCode: 0 Status: OK PackageFile: spatialDE_1.12.0.tar.gz PackageFileSize: 3.713 MiB