Package: spatialDE Version: 1.12.0 Command: rm -rf spatialDE.buildbin-libdir && mkdir spatialDE.buildbin-libdir && /Users/biocbuild/BBS/utils/build-universal.sh spatialDE_1.12.0.tar.gz /Library/Frameworks/R.framework/Resources/bin/R spatialDE.buildbin-libdir StartedAt: 2025-04-02 16:27:15 -0400 (Wed, 02 Apr 2025) EndedAt: 2025-04-02 16:27:43 -0400 (Wed, 02 Apr 2025) EllapsedTime: 28.5 seconds RetCode: 0 Status: OK PackageFile: spatialDE_1.12.0.tgz PackageFileSize: 3.945 MiB