Package: sparseMatrixStats Version: 1.18.0 Command: /home/biocbuild/R/R/bin/R CMD check --install=check:sparseMatrixStats.install-out.txt --library=/home/biocbuild/R/R/site-library --no-vignettes --timings sparseMatrixStats_1.18.0.tar.gz StartedAt: 2025-04-01 10:53:56 -0000 (Tue, 01 Apr 2025) EndedAt: 2025-04-01 10:55:01 -0000 (Tue, 01 Apr 2025) EllapsedTime: 65.1 seconds RetCode: 0 Status: OK CheckDir: sparseMatrixStats.Rcheck Warnings: 0