Package: sparrow Version: 1.12.0 Command: /home/biocbuild/R/R/bin/R CMD build --keep-empty-dirs --no-resave-data sparrow StartedAt: 2025-04-01 02:50:25 -0000 (Tue, 01 Apr 2025) EndedAt: 2025-04-01 02:51:18 -0000 (Tue, 01 Apr 2025) EllapsedTime: 53.0 seconds RetCode: 1 Status: ERROR PackageFile: None PackageFileSize: NA