Package: sparrow Version: 1.12.0 Command: chmod a+r sparrow -R && F:\biocbuild\bbs-3.20-bioc\R\bin\R.exe CMD build --keep-empty-dirs --no-resave-data sparrow StartedAt: 2025-03-31 22:02:59 -0400 (Mon, 31 Mar 2025) EndedAt: 2025-03-31 22:04:10 -0400 (Mon, 31 Mar 2025) EllapsedTime: 71.1 seconds RetCode: 1 Status: ERROR PackageFile: None PackageFileSize: NA