Package: sparrow Version: 1.12.0 Command: /Library/Frameworks/R.framework/Resources/bin/R CMD INSTALL sparrow StartedAt: 2025-03-31 15:57:13 -0400 (Mon, 31 Mar 2025) EndedAt: 2025-03-31 15:58:22 -0400 (Mon, 31 Mar 2025) EllapsedTime: 69.1 seconds RetCode: 0 Status: OK