Package: sparrow Version: 1.12.0 Command: /Library/Frameworks/R.framework/Resources/bin/R CMD build --keep-empty-dirs --no-resave-data sparrow StartedAt: 2025-04-01 08:15:31 -0400 (Tue, 01 Apr 2025) EndedAt: 2025-04-01 08:16:21 -0400 (Tue, 01 Apr 2025) EllapsedTime: 49.1 seconds RetCode: 1 Status: ERROR PackageFile: None PackageFileSize: NA