Package: spaSim Version: 1.8.0 Command: /home/biocbuild/R/R/bin/R CMD INSTALL spaSim StartedAt: 2025-03-31 20:27:41 -0000 (Mon, 31 Mar 2025) EndedAt: 2025-03-31 20:28:14 -0000 (Mon, 31 Mar 2025) EllapsedTime: 33.7 seconds RetCode: 0 Status: OK