Package: spaSim Version: 1.8.0 Command: /home/biocbuild/R/R/bin/R CMD check --install=check:spaSim.install-out.txt --library=/home/biocbuild/R/R/site-library --no-vignettes --timings spaSim_1.8.0.tar.gz StartedAt: 2025-04-01 10:55:01 -0000 (Tue, 01 Apr 2025) EndedAt: 2025-04-01 11:01:10 -0000 (Tue, 01 Apr 2025) EllapsedTime: 368.5 seconds RetCode: 1 Status: ERROR CheckDir: spaSim.Rcheck Warnings: NA