Package: spaSim Version: 1.8.0 Command: /home/biocbuild/R/R/bin/R CMD build --keep-empty-dirs --no-resave-data spaSim StartedAt: 2025-04-01 02:51:18 -0000 (Tue, 01 Apr 2025) EndedAt: 2025-04-01 02:53:46 -0000 (Tue, 01 Apr 2025) EllapsedTime: 148.1 seconds RetCode: 0 Status: OK PackageFile: spaSim_1.8.0.tar.gz PackageFileSize: 1.638 MiB