Package: spaSim Version: 1.8.0 Command: /Library/Frameworks/R.framework/Resources/bin/R CMD INSTALL spaSim StartedAt: 2025-03-31 15:27:23 -0400 (Mon, 31 Mar 2025) EndedAt: 2025-03-31 15:28:18 -0400 (Mon, 31 Mar 2025) EllapsedTime: 55.0 seconds RetCode: 0 Status: OK