Package: spaSim Version: 1.8.0 Command: /Library/Frameworks/R.framework/Resources/bin/R CMD build --keep-empty-dirs --no-resave-data spaSim StartedAt: 2025-03-31 22:13:34 -0400 (Mon, 31 Mar 2025) EndedAt: 2025-03-31 22:17:52 -0400 (Mon, 31 Mar 2025) EllapsedTime: 258.0 seconds RetCode: 0 Status: OK PackageFile: spaSim_1.8.0.tar.gz PackageFileSize: 3.901 MiB