Package: soGGi Version: 1.38.0 Command: /Library/Frameworks/R.framework/Resources/bin/R CMD INSTALL soGGi StartedAt: 2025-03-31 15:49:14 -0400 (Mon, 31 Mar 2025) EndedAt: 2025-03-31 15:50:41 -0400 (Mon, 31 Mar 2025) EllapsedTime: 87.3 seconds RetCode: 0 Status: OK