Package: soGGi Version: 1.38.0 Command: /Library/Frameworks/R.framework/Resources/bin/R CMD build --keep-empty-dirs --no-resave-data soGGi StartedAt: 2025-03-31 22:11:26 -0400 (Mon, 31 Mar 2025) EndedAt: 2025-03-31 22:14:13 -0400 (Mon, 31 Mar 2025) EllapsedTime: 166.5 seconds RetCode: 0 Status: OK PackageFile: soGGi_1.38.0.tar.gz PackageFileSize: 3.318 MiB