Package: snm Version: 1.54.0 Command: F:\biocbuild\bbs-3.20-bioc\R\bin\R.exe CMD check --no-multiarch --install=check:snm.install-out.txt --library=F:\biocbuild\bbs-3.20-bioc\R\library --no-vignettes --timings snm_1.54.0.tar.gz StartedAt: 2025-04-01 06:09:34 -0400 (Tue, 01 Apr 2025) EndedAt: 2025-04-01 06:14:35 -0400 (Tue, 01 Apr 2025) EllapsedTime: 301.4 seconds RetCode: 0 Status: OK CheckDir: snm.Rcheck Warnings: 0