Package: snifter Version: 1.16.0 Command: /home/biocbuild/R/R/bin/R CMD build --keep-empty-dirs --no-resave-data snifter StartedAt: 2025-04-01 02:48:25 -0000 (Tue, 01 Apr 2025) EndedAt: 2025-04-01 02:49:20 -0000 (Tue, 01 Apr 2025) EllapsedTime: 55.0 seconds RetCode: 0 Status: OK PackageFile: snifter_1.16.0.tar.gz PackageFileSize: 618.7 KiB