Package: snifter Version: 1.16.0 Command: F:\biocbuild\bbs-3.20-bioc\R\bin\R.exe CMD INSTALL snifter StartedAt: 2025-03-31 15:31:36 -0400 (Mon, 31 Mar 2025) EndedAt: 2025-03-31 15:32:02 -0400 (Mon, 31 Mar 2025) EllapsedTime: 26.4 seconds RetCode: 0 Status: OK