Package: snapcount Version: 1.18.0 Command: /home/biocbuild/R/R/bin/R CMD INSTALL snapcount StartedAt: 2025-03-31 20:20:35 -0000 (Mon, 31 Mar 2025) EndedAt: 2025-03-31 20:21:14 -0000 (Mon, 31 Mar 2025) EllapsedTime: 38.9 seconds RetCode: 0 Status: OK