Package: snapcount Version: 1.18.0 Command: /home/biocbuild/bbs-3.20-bioc/R/bin/R CMD build --keep-empty-dirs --no-resave-data --md5 snapcount StartedAt: 2025-03-31 19:11:53 -0400 (Mon, 31 Mar 2025) EndedAt: 2025-03-31 19:13:23 -0400 (Mon, 31 Mar 2025) EllapsedTime: 90.1 seconds RetCode: 0 Status: OK PackageFile: snapcount_1.18.0.tar.gz PackageFileSize: 515.9 KiB