Package: snapcount Version: 1.18.0 Command: /Library/Frameworks/R.framework/Resources/bin/R CMD check --install=check:snapcount.install-out.txt --library=/Library/Frameworks/R.framework/Resources/library --no-vignettes --timings snapcount_1.18.0.tar.gz StartedAt: 2025-04-01 09:24:53 -0400 (Tue, 01 Apr 2025) EndedAt: 2025-04-01 09:32:38 -0400 (Tue, 01 Apr 2025) EllapsedTime: 464.8 seconds RetCode: 0 Status: OK CheckDir: snapcount.Rcheck Warnings: 0