Package: smoothclust Version: 1.2.2 Command: /home/biocbuild/R/R/bin/R CMD INSTALL smoothclust StartedAt: 2025-03-31 20:27:37 -0000 (Mon, 31 Mar 2025) EndedAt: 2025-03-31 20:27:38 -0000 (Mon, 31 Mar 2025) EllapsedTime: 1.0 seconds RetCode: 1 Status: ERROR