Package: smoothclust Version: 1.2.2 Command: rm -rf smoothclust.buildbin-libdir && mkdir smoothclust.buildbin-libdir && F:\biocbuild\bbs-3.20-bioc\R\bin\R.exe CMD INSTALL --build --library=smoothclust.buildbin-libdir smoothclust_1.2.2.tar.gz StartedAt: 2025-04-01 09:16:04 -0400 (Tue, 01 Apr 2025) EndedAt: 2025-04-01 09:16:44 -0400 (Tue, 01 Apr 2025) EllapsedTime: 39.7 seconds RetCode: 0 Status: OK PackageFile: smoothclust_1.2.2.zip PackageFileSize: 343.8 KiB