Package: slingshot Version: 2.14.0 Command: /Library/Frameworks/R.framework/Resources/bin/R CMD INSTALL slingshot StartedAt: 2025-03-31 15:19:50 -0400 (Mon, 31 Mar 2025) EndedAt: 2025-03-31 15:20:47 -0400 (Mon, 31 Mar 2025) EllapsedTime: 56.8 seconds RetCode: 0 Status: OK