Package: slalom Version: 1.28.0 Command: /home/biocbuild/bbs-3.20-bioc/R/bin/R CMD INSTALL slalom StartedAt: 2025-03-31 15:51:58 -0400 (Mon, 31 Mar 2025) EndedAt: 2025-03-31 15:52:52 -0400 (Mon, 31 Mar 2025) EllapsedTime: 53.4 seconds RetCode: 0 Status: OK