Package: slalom Version: 1.28.0 Command: /home/biocbuild/bbs-3.20-bioc/R/bin/R CMD check --install=check:slalom.install-out.txt --library=/home/biocbuild/bbs-3.20-bioc/R/site-library --timings slalom_1.28.0.tar.gz StartedAt: 2025-04-01 02:21:22 -0400 (Tue, 01 Apr 2025) EndedAt: 2025-04-01 02:26:23 -0400 (Tue, 01 Apr 2025) EllapsedTime: 301.3 seconds RetCode: 0 Status: WARNINGS CheckDir: slalom.Rcheck Warnings: 1