Package: slalom Version: 1.28.0 Command: /Library/Frameworks/R.framework/Resources/bin/R CMD INSTALL slalom StartedAt: 2025-03-31 16:23:53 -0400 (Mon, 31 Mar 2025) EndedAt: 2025-03-31 16:24:16 -0400 (Mon, 31 Mar 2025) EllapsedTime: 22.6 seconds RetCode: 1 Status: ERROR