Package: skewr Version: 1.38.0 Command: /home/biocbuild/R/R/bin/R CMD INSTALL skewr StartedAt: 2025-03-31 21:09:52 -0000 (Mon, 31 Mar 2025) EndedAt: 2025-03-31 21:10:56 -0000 (Mon, 31 Mar 2025) EllapsedTime: 64.0 seconds RetCode: 0 Status: OK