Package: sizepower Version: 1.76.0 Command: /Library/Frameworks/R.framework/Resources/bin/R CMD INSTALL sizepower StartedAt: 2025-03-31 15:04:13 -0400 (Mon, 31 Mar 2025) EndedAt: 2025-03-31 15:04:16 -0400 (Mon, 31 Mar 2025) EllapsedTime: 2.5 seconds RetCode: 0 Status: OK