Package: sizepower Version: 1.76.0 Command: /Library/Frameworks/R.framework/Resources/bin/R CMD build --keep-empty-dirs --no-resave-data sizepower StartedAt: 2025-04-01 08:05:22 -0400 (Tue, 01 Apr 2025) EndedAt: 2025-04-01 08:05:30 -0400 (Tue, 01 Apr 2025) EllapsedTime: 7.9 seconds RetCode: 0 Status: OK PackageFile: sizepower_1.76.0.tar.gz PackageFileSize: 295.5 KiB