Package: sitePath Version: 1.22.0 Command: /home/biocbuild/R/R/bin/R CMD INSTALL sitePath StartedAt: 2025-03-31 20:37:31 -0000 (Mon, 31 Mar 2025) EndedAt: 2025-03-31 20:38:22 -0000 (Mon, 31 Mar 2025) EllapsedTime: 51.5 seconds RetCode: 0 Status: OK