Package: sitePath Version: 1.22.0 Command: /home/biocbuild/R/R/bin/R CMD build --keep-empty-dirs --no-resave-data sitePath StartedAt: 2025-04-01 02:46:45 -0000 (Tue, 01 Apr 2025) EndedAt: 2025-04-01 02:48:09 -0000 (Tue, 01 Apr 2025) EllapsedTime: 84.1 seconds RetCode: 0 Status: OK PackageFile: sitePath_1.22.0.tar.gz PackageFileSize: 907.2 KiB