Package: sitePath Version: 1.22.0 Command: /Library/Frameworks/R.framework/Resources/bin/R CMD build --keep-empty-dirs --no-resave-data sitePath StartedAt: 2025-04-01 08:04:44 -0400 (Tue, 01 Apr 2025) EndedAt: 2025-04-01 08:05:41 -0400 (Tue, 01 Apr 2025) EllapsedTime: 57.7 seconds RetCode: 0 Status: OK PackageFile: sitePath_1.22.0.tar.gz PackageFileSize: 1.241 MiB