Package: sitadela Version: 1.14.0 Command: F:\biocbuild\bbs-3.20-bioc\R\bin\R.exe CMD check --no-multiarch --install=check:sitadela.install-out.txt --library=F:\biocbuild\bbs-3.20-bioc\R\library --no-vignettes --timings sitadela_1.14.0.tar.gz StartedAt: 2025-04-01 06:06:26 -0400 (Tue, 01 Apr 2025) EndedAt: 2025-04-01 06:12:43 -0400 (Tue, 01 Apr 2025) EllapsedTime: 377.7 seconds RetCode: 0 Status: OK CheckDir: sitadela.Rcheck Warnings: 0