Package: singleCellTK Version: 2.16.1 Command: rm -rf singleCellTK.buildbin-libdir && mkdir singleCellTK.buildbin-libdir && F:\biocbuild\bbs-3.20-bioc\R\bin\R.exe CMD INSTALL --build --library=singleCellTK.buildbin-libdir singleCellTK_2.16.1.tar.gz StartedAt: 2025-04-01 09:15:12 -0400 (Tue, 01 Apr 2025) EndedAt: 2025-04-01 09:18:55 -0400 (Tue, 01 Apr 2025) EllapsedTime: 223.1 seconds RetCode: 0 Status: OK PackageFile: singleCellTK_2.16.1.zip PackageFileSize: 4.636 MiB