Package: single Version: 1.10.0 Command: /home/biocbuild/R/R/bin/R CMD INSTALL single StartedAt: 2025-03-31 20:28:23 -0000 (Mon, 31 Mar 2025) EndedAt: 2025-03-31 20:28:56 -0000 (Mon, 31 Mar 2025) EllapsedTime: 32.6 seconds RetCode: 0 Status: OK