Package: single Version: 1.10.0 Command: chmod a+r single -R && F:\biocbuild\bbs-3.20-bioc\R\bin\R.exe CMD build --keep-empty-dirs --no-resave-data single StartedAt: 2025-03-31 21:58:28 -0400 (Mon, 31 Mar 2025) EndedAt: 2025-03-31 22:00:21 -0400 (Mon, 31 Mar 2025) EllapsedTime: 113.5 seconds RetCode: 0 Status: OK PackageFile: single_1.10.0.tar.gz PackageFileSize: 1.392 MiB