Package: sincell Version: 1.38.0 Command: /Library/Frameworks/R.framework/Resources/bin/R CMD check --install=check:sincell.install-out.txt --library=/Library/Frameworks/R.framework/Resources/library --no-vignettes --timings sincell_1.38.0.tar.gz StartedAt: 2025-04-02 09:00:53 -0400 (Wed, 02 Apr 2025) EndedAt: 2025-04-02 09:02:04 -0400 (Wed, 02 Apr 2025) EllapsedTime: 71.7 seconds RetCode: 0 Status: OK CheckDir: sincell.Rcheck Warnings: 0