Package: sincell Version: 1.38.0 Command: /Library/Frameworks/R.framework/Resources/bin/R CMD build --keep-empty-dirs --no-resave-data sincell StartedAt: 2025-04-01 07:58:01 -0400 (Tue, 01 Apr 2025) EndedAt: 2025-04-01 08:01:57 -0400 (Tue, 01 Apr 2025) EllapsedTime: 235.7 seconds RetCode: 0 Status: OK PackageFile: sincell_1.38.0.tar.gz PackageFileSize: 1.187 MiB