Package: sincell Version: 1.38.0 Command: rm -rf sincell.buildbin-libdir && mkdir sincell.buildbin-libdir && /Users/biocbuild/BBS/utils/build-universal.sh sincell_1.38.0.tar.gz /Library/Frameworks/R.framework/Resources/bin/R sincell.buildbin-libdir StartedAt: 2025-04-02 16:22:58 -0400 (Wed, 02 Apr 2025) EndedAt: 2025-04-02 16:23:23 -0400 (Wed, 02 Apr 2025) EllapsedTime: 24.3 seconds RetCode: 0 Status: OK PackageFile: sincell_1.38.0.tgz PackageFileSize: 1.301 MiB